BEGIN:VCALENDAR
VERSION:2.0
PRODID:-//wp-events-plugin.com//7.2.3.1//EN
TZID:America/New_York
X-WR-TIMEZONE:America/New_York
BEGIN:VEVENT
UID:87@mifflincosportsmens.com
DTSTART;TZID=America/New_York:20251012T000000
DTEND;TZID=America/New_York:20251012T000000
DTSTAMP:20250915T185225Z
URL:https://mifflincosportsmens.com/events/sunday-hunting-permitted-4/
SUMMARY:Sunday Hunting Permitted
DESCRIPTION:Sunday hunting is permitted.  Follow all PA Game Commission Ru
 les.  No hunting from the ranges.\n\nRemember that all ranges are open fo
 r other members at 1 PM.  
LOCATION:Mifflin County Sportsmen's Association Facility\, 401 Ellen Chapel
  Road\, Lewistown\, PA\, 17044\, United States
X-APPLE-STRUCTURED-LOCATION;VALUE=URI;X-ADDRESS=401 Ellen Chapel Road\, Lew
 istown\, PA\, 17044\, United States;X-APPLE-RADIUS=100;X-TITLE=Mifflin Cou
 nty Sportsmen's Association Facility:geo:0,0
END:VEVENT
BEGIN:VTIMEZONE
TZID:America/New_York
X-LIC-LOCATION:America/New_York
BEGIN:DAYLIGHT
DTSTART:20250309T030000
TZOFFSETFROM:-0500
TZOFFSETTO:-0400
TZNAME:EDT
END:DAYLIGHT
END:VTIMEZONE
END:VCALENDAR